BEGIN:VCALENDAR
VERSION:2.0
METHOD:PUBLISH
BEGIN:VEVENT
DTSTART:20260603T200000Z
DTEND:20260603T210000Z
LOCATION:Science World - Vancouver, BC
UID:20260419T145934Z@mysite.com
DTSTAMP:20260419T145934Z
SUMMARY:General Admission
DESCRIPTION:For details, visit https://tickets.scienceworld.ca/Selection.aspx?sch=374047
PRIORITY:5
CLASS:PUBLIC
END:VEVENT
END:VCALENDAR