BEGIN:VCALENDAR
VERSION:2.0
METHOD:PUBLISH
BEGIN:VEVENT
DTSTART:20260422T200000Z
DTEND:20260422T210000Z
LOCATION:Science World - Vancouver, BC
UID:20260421T161520Z@mysite.com
DTSTAMP:20260421T161520Z
SUMMARY:General Admission
DESCRIPTION:For details, visit https://tickets.scienceworld.ca/Selection.aspx?sch=373711
PRIORITY:5
CLASS:PUBLIC
END:VEVENT
END:VCALENDAR