BEGIN:VCALENDAR
VERSION:2.0
METHOD:PUBLISH
BEGIN:VEVENT
DTSTART:20260423T200000Z
DTEND:20260423T210000Z
LOCATION:Science World - Vancouver, BC
UID:20260423T021138Z@mysite.com
DTSTAMP:20260423T021138Z
SUMMARY:General Admission
DESCRIPTION:For details, visit https://tickets.scienceworld.ca/Selection.aspx?sch=373719
PRIORITY:5
CLASS:PUBLIC
END:VEVENT
END:VCALENDAR