BEGIN:VCALENDAR
VERSION:2.0
METHOD:PUBLISH
BEGIN:VEVENT
DTSTART:20260520T230000Z
DTEND:20260521T000000Z
LOCATION:Science World - Vancouver, BC
UID:20260419T150138Z@mysite.com
DTSTAMP:20260419T150138Z
SUMMARY:General Admission
DESCRIPTION:For details, visit https://tickets.scienceworld.ca/Selection.aspx?sch=373938
PRIORITY:5
CLASS:PUBLIC
END:VEVENT
END:VCALENDAR