BEGIN:VCALENDAR
VERSION:2.0
METHOD:PUBLISH
BEGIN:VEVENT
DTSTART:20260522T220000Z
DTEND:20260522T230000Z
LOCATION:Science World - Vancouver, BC
UID:20260419T150551Z@mysite.com
DTSTAMP:20260419T150551Z
SUMMARY:General Admission
DESCRIPTION:For details, visit https://tickets.scienceworld.ca/Selection.aspx?sch=373953
PRIORITY:5
CLASS:PUBLIC
END:VEVENT
END:VCALENDAR