BEGIN:VCALENDAR
VERSION:2.0
METHOD:PUBLISH
BEGIN:VEVENT
DTSTART:20260508T010000Z
DTEND:20260508T050000Z
LOCATION:Science World - Vancouver, BC
UID:20260425T121210Z@mysite.com
DTSTAMP:20260425T121210Z
SUMMARY:Science World After Dark
DESCRIPTION:For details, visit https://tickets.scienceworld.ca/Selection.aspx?sch=376438
PRIORITY:5
CLASS:PUBLIC
END:VEVENT
END:VCALENDAR